BEGIN:VCALENDAR
VERSION:2.0
PRODID:-//Uplevel Coworking - ECPv6.15.20//NONSGML v1.0//EN
CALSCALE:GREGORIAN
METHOD:PUBLISH
X-WR-CALNAME:Uplevel Coworking
X-ORIGINAL-URL:https://uplevelcoworking.com
X-WR-CALDESC:Events for Uplevel Coworking
REFRESH-INTERVAL;VALUE=DURATION:PT1H
X-Robots-Tag:noindex
X-PUBLISHED-TTL:PT1H
BEGIN:VTIMEZONE
TZID:America/Chicago
BEGIN:DAYLIGHT
TZOFFSETFROM:-0600
TZOFFSETTO:-0500
TZNAME:CDT
DTSTART:20220313T080000
END:DAYLIGHT
BEGIN:STANDARD
TZOFFSETFROM:-0500
TZOFFSETTO:-0600
TZNAME:CST
DTSTART:20221106T070000
END:STANDARD
BEGIN:DAYLIGHT
TZOFFSETFROM:-0600
TZOFFSETTO:-0500
TZNAME:CDT
DTSTART:20230312T080000
END:DAYLIGHT
BEGIN:STANDARD
TZOFFSETFROM:-0500
TZOFFSETTO:-0600
TZNAME:CST
DTSTART:20231105T070000
END:STANDARD
BEGIN:DAYLIGHT
TZOFFSETFROM:-0600
TZOFFSETTO:-0500
TZNAME:CDT
DTSTART:20240310T080000
END:DAYLIGHT
BEGIN:STANDARD
TZOFFSETFROM:-0500
TZOFFSETTO:-0600
TZNAME:CST
DTSTART:20241103T070000
END:STANDARD
END:VTIMEZONE
BEGIN:VEVENT
DTSTART;TZID=America/Chicago:20230628T120000
DTEND;TZID=America/Chicago:20230628T130000
DTSTAMP:20260423T144052
CREATED:20230525T141510Z
LAST-MODIFIED:20230525T142036Z
UID:487-1687953600-1687957200@uplevelcoworking.com
SUMMARY:Biz Book Club: You Are a Badass At Making Money
DESCRIPTION:Stimulate your mind with a conversation of Jen Sincero’s book You Are a Badass at Making Money. In her bestselling book\, Sincero talks about strategies to make more money and claim wealth as your birthright. You are a badass\, my friend. This book is available at all major retailers\, and the audiobook is available through Audible. Free coffee and tea available for book club attendees. \nBook available here at our local Madison bookstore\, A Room of One’s Own.
URL:https://uplevelcoworking.com/event/biz-book-club-june-2023/
LOCATION:Uplevel Coworking – Broadway Station – Huddle Room\, 1574 W Broadway Street\, Suite 200\, Madison\, WI\, 53590\, United States
CATEGORIES:Business,Education,Networking,Personal Development
ATTACH;FMTTYPE=image/png:https://uplevelcoworking.com/wp-content/uploads/2023/05/Biz-Book-Club.png
ORGANIZER;CN="Kelly Noel Zeva":MAILTO:kellynoel@uplevelcoworking.com
END:VEVENT
BEGIN:VEVENT
DTSTART;TZID=America/Chicago:20230627T120000
DTEND;TZID=America/Chicago:20230627T130000
DTSTAMP:20260423T144052
CREATED:20230525T150009Z
LAST-MODIFIED:20230525T150009Z
UID:495-1687867200-1687870800@uplevelcoworking.com
SUMMARY:Podcasting 101 Workshop
DESCRIPTION:This training will largely take place in our Podcast Studio\, though we will start and end in our Huddle Room to review certain details of podcast development\, editing\, and promotion. As a thank you for attending this workshop\, you will receive one (1) free credit hour in our Podcast Studio after showing up in person ($30 value). \nWhat we’ll cover: \n\nConnecting with our audio interface\nUsing our RodeCaster PRO mic and our Rode ProCaster audio board\nSoftware you’ll want to have on your computer\nRecording audio to your device (micro SD\, phone\, laptop)\nAudio editing and podcast script development best practices\nPodcast hosting options\, and our recommended solutions
URL:https://uplevelcoworking.com/event/podcasting-101-workshop-06-27-2023/
LOCATION:Uplevel Coworking – Broadway Station – Huddle Room\, 1574 W Broadway Street\, Suite 200\, Madison\, WI\, 53590\, United States
CATEGORIES:Business,Education,Podcasting
ATTACH;FMTTYPE=image/png:https://uplevelcoworking.com/wp-content/uploads/2023/05/Podcasting-101.png
ORGANIZER;CN="Kelly Noel Zeva":MAILTO:kellynoel@uplevelcoworking.com
END:VEVENT
BEGIN:VEVENT
DTSTART;TZID=America/Chicago:20230620T120000
DTEND;TZID=America/Chicago:20230620T130000
DTSTAMP:20260423T144052
CREATED:20230605T152152Z
LAST-MODIFIED:20230605T155808Z
UID:529-1687262400-1687266000@uplevelcoworking.com
SUMMARY:Jen Dys: How to Leverage Human Design to Thrive in the Workplace
DESCRIPTION:Join us for Jen Dys’ Human Design workshop at Uplevel Coworking! In this exclusive virtual training\, Jen Dys will share how you can leverage your unique Human Design to thrive in the workplace. Human Design incorporates data from your astrological natal chart\, the I-Ching\, the chakra system\, and the Kabbalah Tree of Life. As a result\, it gives you in-depth insight into how to make decisions\, build your marketing strategy\, and even what to pursue as your life’s passion! \nThis training will be hosted over Zoom. For people who wish to meet with us in person\, select a free in-person ticket below. In-person attendees will meet at Uplevel Coworking in the large conference room. \nOtherwise\, get your tickets for Jen Dys’ Human Design workshop at Uplevel Coworking from EventBrite here. \nAbout Jen Dys\nJen Dys (she/her) is a former physical therapist who is now a Human Design Coach & Marketing Strategist for entrepreneurs. After working with business owners for 2 years on their marketing strategies\, she saw a gap. Too many entrepreneurs created marketing strategies based on what they thought they “should” do\, rather than what actually works for them.Today\, she helps business owners\, CEOs\, and visionary leaders uncover their unique strengths. Through Human Design\, she also helps them leverage their gifts through their work\, to build the business and life of their dreams. Learn more about Jen Dys and her business at jendys.co.
URL:https://uplevelcoworking.com/event/jen-dys-human-design-in-the-workplace/
LOCATION:Uplevel Coworking – Broadway Station – Conference Room\, Uplevel Coworking - 1574 W Broadway Street\, Suite 200\, Madison\, WI\, 53713\, United States
CATEGORIES:Business,Education,Personal Development
ATTACH;FMTTYPE=image/png:https://uplevelcoworking.com/wp-content/uploads/2023/06/Thrive-With-Human-Design.png
ORGANIZER;CN="Kelly Noel Zeva":MAILTO:kellynoel@uplevelcoworking.com
END:VEVENT
BEGIN:VEVENT
DTSTART;TZID=America/Chicago:20230613T120000
DTEND;TZID=America/Chicago:20230613T130000
DTSTAMP:20260423T144052
CREATED:20230525T144438Z
LAST-MODIFIED:20230525T145403Z
UID:491-1686657600-1686661200@uplevelcoworking.com
SUMMARY:Podcasting 101 Workshop
DESCRIPTION:This training will largely take place in our Podcast Studio\, though we will start and end in our Huddle Room to review certain details of podcast development\, editing\, and promotion. As a thank you for attending this workshop\, you will receive one (1) free credit hour in our Podcast Studio after showing up in person ($30 value). \nWhat we’ll cover: \n\nConnecting with our audio interface\nUsing our RodeCaster PRO mic and our Rode ProCaster audio board\nSoftware you’ll want to have on your computer\nRecording audio to your device (micro SD\, phone\, laptop)\nAudio editing and podcast script development best practices\nPodcast hosting options\, and our recommended solutions
URL:https://uplevelcoworking.com/event/podcasting-101-workshop-06-13-2023/
LOCATION:Uplevel Coworking – Broadway Station – Huddle Room\, 1574 W Broadway Street\, Suite 200\, Madison\, WI\, 53590\, United States
CATEGORIES:Business,Education,Podcasting
ATTACH;FMTTYPE=image/png:https://uplevelcoworking.com/wp-content/uploads/2023/05/Podcasting-101.png
ORGANIZER;CN="Kelly Noel Zeva":MAILTO:kellynoel@uplevelcoworking.com
END:VEVENT
BEGIN:VEVENT
DTSTART;TZID=America/Chicago:20230531T070000
DTEND;TZID=America/Chicago:20230531T080000
DTSTAMP:20260423T144052
CREATED:20230510T015656Z
LAST-MODIFIED:20230516T152222Z
UID:449-1685516400-1685520000@uplevelcoworking.com
SUMMARY:Biz Book Club: The Big Leap
DESCRIPTION:Stimulate your mind with a conversation of Gay Hendricks’ The Big Leap. In his bestselling book\, Hendricks’ talks about how to regulate our nervous systems when we grow and expand to experience more joy\, love\, and money\, and avoid self-sabotage as we spend more and more time in our “genius zone.”  \nThis book is available at all major retailers\, and the audiobook is available through Audible. Free coffee and tea available for book club attendees. \nBook available here at our local Madison bookstore\, A Room of One’s Own.
URL:https://uplevelcoworking.com/event/biz-book-club-may-2023/
LOCATION:Uplevel Coworking – Broadway Station – Huddle Room\, 1574 W Broadway Street\, Suite 200\, Madison\, WI\, 53590\, United States
CATEGORIES:Business,Education,Networking,Personal Development
ATTACH;FMTTYPE=image/png:https://uplevelcoworking.com/wp-content/uploads/2023/05/Biz-Book-Club.png
ORGANIZER;CN="Kelly Noel Zeva":MAILTO:kellynoel@uplevelcoworking.com
END:VEVENT
BEGIN:VEVENT
DTSTART;TZID=America/Chicago:20230530T110000
DTEND;TZID=America/Chicago:20230530T120000
DTSTAMP:20260423T144052
CREATED:20230509T223241Z
LAST-MODIFIED:20230516T190055Z
UID:445-1685444400-1685448000@uplevelcoworking.com
SUMMARY:Podcasting 101 Workshop
DESCRIPTION:This training will largely take place in our Podcast Studio\, though we will start and end in the conference room to review certain details of podcast development\, editing\, and promotion. \nWhat we’ll cover: \n\nConnecting with our audio interface\nSoftware you’ll want to have on your computer\nRecording audio to your device (micro SD\, phone\, laptop)\nAudio editing best practices\nPodcast hosting options\, and our recommended solution
URL:https://uplevelcoworking.com/event/podcasting-101-workshop-05-30-2023/
LOCATION:Uplevel Coworking – Broadway Station – Conference Room\, Uplevel Coworking - 1574 W Broadway Street\, Suite 200\, Madison\, WI\, 53713\, United States
CATEGORIES:Business,Education
ATTACH;FMTTYPE=image/png:https://uplevelcoworking.com/wp-content/uploads/2023/05/Podcasting-101.png
ORGANIZER;CN="Kelly Noel Zeva":MAILTO:kellynoel@uplevelcoworking.com
END:VEVENT
BEGIN:VEVENT
DTSTART;TZID=America/Chicago:20230523T110000
DTEND;TZID=America/Chicago:20230523T120000
DTSTAMP:20260423T144052
CREATED:20230509T220915Z
LAST-MODIFIED:20230516T194009Z
UID:441-1684839600-1684843200@uplevelcoworking.com
SUMMARY:Podcasting 101 Workshop
DESCRIPTION:This training will largely take place in our Podcast Studio\, though we will start and end in the conference room to review certain details of podcast development\, editing\, and promotion. \nWhat we’ll cover: \n\nConnecting with our audio interface\nSoftware you’ll want to have on your computer\nRecording audio to your device (micro SD\, phone\, laptop)\nAudio editing best practices\nPodcast hosting options\, and our recommended solution
URL:https://uplevelcoworking.com/event/podcasting-101-workshop-05-23-2023/
LOCATION:Uplevel Coworking – Broadway Station – Huddle Room\, 1574 W Broadway Street\, Suite 200\, Madison\, WI\, 53590\, United States
CATEGORIES:Business,Education
ATTACH;FMTTYPE=image/png:https://uplevelcoworking.com/wp-content/uploads/2023/05/Podcasting-101.png
ORGANIZER;CN="Kelly Noel Zeva":MAILTO:kellynoel@uplevelcoworking.com
END:VEVENT
END:VCALENDAR