BEGIN:VCALENDAR
VERSION:2.0
PRODID:-//Uplevel Coworking - ECPv6.15.20//NONSGML v1.0//EN
CALSCALE:GREGORIAN
METHOD:PUBLISH
X-ORIGINAL-URL:https://uplevelcoworking.com
X-WR-CALDESC:Events for Uplevel Coworking
REFRESH-INTERVAL;VALUE=DURATION:PT1H
X-Robots-Tag:noindex
X-PUBLISHED-TTL:PT1H
BEGIN:VTIMEZONE
TZID:America/Chicago
BEGIN:DAYLIGHT
TZOFFSETFROM:-0600
TZOFFSETTO:-0500
TZNAME:CDT
DTSTART:20220313T080000
END:DAYLIGHT
BEGIN:STANDARD
TZOFFSETFROM:-0500
TZOFFSETTO:-0600
TZNAME:CST
DTSTART:20221106T070000
END:STANDARD
BEGIN:DAYLIGHT
TZOFFSETFROM:-0600
TZOFFSETTO:-0500
TZNAME:CDT
DTSTART:20230312T080000
END:DAYLIGHT
BEGIN:STANDARD
TZOFFSETFROM:-0500
TZOFFSETTO:-0600
TZNAME:CST
DTSTART:20231105T070000
END:STANDARD
BEGIN:DAYLIGHT
TZOFFSETFROM:-0600
TZOFFSETTO:-0500
TZNAME:CDT
DTSTART:20240310T080000
END:DAYLIGHT
BEGIN:STANDARD
TZOFFSETFROM:-0500
TZOFFSETTO:-0600
TZNAME:CST
DTSTART:20241103T070000
END:STANDARD
BEGIN:DAYLIGHT
TZOFFSETFROM:-0600
TZOFFSETTO:-0500
TZNAME:CDT
DTSTART:20250309T080000
END:DAYLIGHT
BEGIN:STANDARD
TZOFFSETFROM:-0500
TZOFFSETTO:-0600
TZNAME:CST
DTSTART:20251102T070000
END:STANDARD
END:VTIMEZONE
BEGIN:VEVENT
DTSTART;TZID=America/Chicago:20240509T160000
DTEND;TZID=America/Chicago:20240509T180000
DTSTAMP:20260423T131609
CREATED:20240411T184952Z
LAST-MODIFIED:20240412T163540Z
UID:809-1715270400-1715277600@uplevelcoworking.com
SUMMARY:Work Week Wind Down: May 2024
DESCRIPTION:It’s here! The Work Week Wind Down in May 2024. Our most well-attended event\, Work Week Wind Down is our monthly happy hour where you can meet other people\, have fun\, and enjoy some good food and beverages. \nGenerally the second Thursday of the month\, at Work Week Wind Down\, we celebrate the near end of the work week with networking\, pizza\, snacks\, and adult beverages (read: local craft beer and wine coolers). We’re excited to chill with you at this event! Bring your business cards and your elevator pitch as you meet (other) members of our coworking space. While onsite\, check out the latest pieces in our Uplevel Art Gallery. You might even get a chance to meet and greet this month’s featured local artists. Art may be available for purchase. \nThis event is free for Uplevel and MESBA members and $5 for general admission to help cover food and alcohol costs. Each member of Uplevel Coworking may invite up to (1) guest for free. Please RSVP below so we can get a headcount and notify you of any event changes. \nFree for Uplevel & MESBA members | $5 for general admission \nEntrance is located on the back side of the building.
URL:https://uplevelcoworking.com/event/work-week-wind-down-may-2024/
LOCATION:Uplevel Coworking – Coffee Bar\, Uplevel Coworking -1574 W Broadway Street\, Suite 200\, Madison\, WI\, 53590\, United States
CATEGORIES:Business,Food,Networking,Social
ATTACH;FMTTYPE=image/png:https://uplevelcoworking.com/wp-content/uploads/2023/05/Work-Week-Wind-Down.png
ORGANIZER;CN="Heather Rizzo":MAILTO:heather@uplevelcoworking.com
END:VEVENT
BEGIN:VEVENT
DTSTART;TZID=America/Chicago:20240411T160000
DTEND;TZID=America/Chicago:20240411T180000
DTSTAMP:20260423T131609
CREATED:20240315T164216Z
LAST-MODIFIED:20240401T194419Z
UID:784-1712851200-1712858400@uplevelcoworking.com
SUMMARY:Work Week Wind Down: April 2024
DESCRIPTION:It’s here! The Work Week Wind Down in April 2024. Our most well-attended event\, Work Week Wind Down is our monthly happy hour where you can meet other people\, have fun\, and enjoy some good food and beverages. \nGenerally the second Thursday of the month\, at Work Week Wind Down\, we celebrate the near end of the work week with networking\, pizza\, snacks\, and adult beverages (read: local craft beer and wine coolers). We’re excited to chill with you at this event! Bring your business cards and your elevator pitch as you meet (other) members of our coworking space. While onsite\, check out the latest pieces in our Uplevel Art Gallery. You might even get a chance to meet and greet this month’s featured local artists. Art may be available for purchase. \nThis event is free for Uplevel and MESBA members and $5 for general admission to help cover food and alcohol costs. Each member of Uplevel Coworking may invite up to (1) guest for free. Please RSVP below so we can get a headcount and notify you of any event changes. \nFree for Uplevel & MESBA members | $5 for general admission \nEntrance is located on the back side of the building.
URL:https://uplevelcoworking.com/event/work-week-wind-down-april-2024/
LOCATION:Uplevel Coworking – Coffee Bar\, Uplevel Coworking -1574 W Broadway Street\, Suite 200\, Madison\, WI\, 53590\, United States
CATEGORIES:Business,Food,Networking,Social
ATTACH;FMTTYPE=image/png:https://uplevelcoworking.com/wp-content/uploads/2023/05/Work-Week-Wind-Down.png
ORGANIZER;CN="Heather Rizzo":MAILTO:heather@uplevelcoworking.com
END:VEVENT
BEGIN:VEVENT
DTSTART;TZID=America/Chicago:20240314T160000
DTEND;TZID=America/Chicago:20240314T180000
DTSTAMP:20260423T131609
CREATED:20240201T175144Z
LAST-MODIFIED:20240222T155014Z
UID:671-1710432000-1710439200@uplevelcoworking.com
SUMMARY:Work Week Wind Down: March 2024
DESCRIPTION:It’s here! The Work Week Wind Down in March 2024. Our most well-attended event\, Work Week Wind Down is our monthly happy hour where you can meet other people\, have fun\, and enjoy some good food and beverages. \nGenerally the second Thursday of the month\, at Work Week Wind Down\, we celebrate the near end of the work week with networking\, pizza\, snacks\, and adult beverages (read: local craft beer and wine coolers). We’re excited to chill with you at this event! Bring your business cards and your elevator pitch as you meet (other) members of our coworking space. While onsite\, check out the latest pieces in our Uplevel Art Gallery. You might even get a chance to meet and greet this month’s featured local artists. Art may be available for purchase. \nThis event is free for Uplevel and MESBA members and $5 for general admission to help cover food and alcohol costs. Each member of Uplevel Coworking may invite up to (1) guest for free. Please RSVP so we can notify you of any event changes. \nFree for Uplevel & MESBA members | $5 for general admission
URL:https://uplevelcoworking.com/event/work-week-wind-down-march-2024/
LOCATION:Uplevel Coworking – Coffee Bar\, Uplevel Coworking -1574 W Broadway Street\, Suite 200\, Madison\, WI\, 53590\, United States
CATEGORIES:Business,Food,Networking,Social
ATTACH;FMTTYPE=image/png:https://uplevelcoworking.com/wp-content/uploads/2023/05/Work-Week-Wind-Down.png
ORGANIZER;CN="Heather Rizzo":MAILTO:heather@uplevelcoworking.com
END:VEVENT
BEGIN:VEVENT
DTSTART;TZID=America/Chicago:20240208T160000
DTEND;TZID=America/Chicago:20240208T180000
DTSTAMP:20260423T131609
CREATED:20240201T174204Z
LAST-MODIFIED:20240201T175448Z
UID:667-1707408000-1707415200@uplevelcoworking.com
SUMMARY:Work Week Wind Down: February 2024
DESCRIPTION:It’s here! The Work Week Wind Down in February 2024. Our most well-attended event\, Work Week Wind Down is our monthly happy hour where you can meet other people\, have fun\, and enjoy some good food and beverages. \nGenerally the second Thursday of the month\, at Work Week Wind Down\, we celebrate the near end of the work week with networking\, pizza\, snacks\, and adult beverages (read: local craft beer and wine coolers). We’re excited to chill with you at this event! Bring your business cards and your elevator pitch as you meet (other) members of our coworking space. While onsite\, check out the latest pieces in our Uplevel Art Gallery. You might even get a chance to meet and greet this month’s featured local artists. Art may be available for purchase. \nThis event is free for Uplevel and MESBA members and $5 for general admission to help cover food and alcohol costs. Each member of Uplevel Coworking may invite up to (1) guest for free. \nFree for Uplevel & MESBA members | $5 for general admission
URL:https://uplevelcoworking.com/event/work-week-wind-down-february-2024/
LOCATION:Uplevel Coworking – Coffee Bar\, Uplevel Coworking -1574 W Broadway Street\, Suite 200\, Madison\, WI\, 53590\, United States
CATEGORIES:Business,Food,Networking,Social
ATTACH;FMTTYPE=image/png:https://uplevelcoworking.com/wp-content/uploads/2023/05/Work-Week-Wind-Down.png
ORGANIZER;CN="Heather Rizzo":MAILTO:heather@uplevelcoworking.com
END:VEVENT
BEGIN:VEVENT
DTSTART;TZID=America/Chicago:20240111T160000
DTEND;TZID=America/Chicago:20240111T180000
DTSTAMP:20260423T131609
CREATED:20231221T154546Z
LAST-MODIFIED:20231221T155110Z
UID:660-1704988800-1704996000@uplevelcoworking.com
SUMMARY:Work Week Wind Down: January 2024
DESCRIPTION:It’s here! The Work Week Wind Down in January 2024. Our most well-attended event\, Work Week Wind Down is our monthly happy hour where you can meet other people\, have fun\, and enjoy some good food and beverages. \nGenerally the second Thursday of the month\, at Work Week Wind Down\, we celebrate the near end of the work week with networking\, pizza\, snacks\, and adult beverages (read: local craft beer and wine coolers). We’re excited to chill with you at this event! Bring your business cards and your elevator pitch as you meet (other) members of our coworking space. \nThis event is free for Uplevel and MESBA members and $5 for general admission to help cover food and alcohol costs. Each member of Uplevel Coworking may invite up to (1) guest for free. \nFree for Uplevel & MESBA members | $5 for general admission
URL:https://uplevelcoworking.com/event/work-week-wind-down-january-2024/
LOCATION:Uplevel Coworking – Coffee Bar\, Uplevel Coworking -1574 W Broadway Street\, Suite 200\, Madison\, WI\, 53590\, United States
CATEGORIES:Food,Networking,Social
ATTACH;FMTTYPE=image/png:https://uplevelcoworking.com/wp-content/uploads/2023/05/Work-Week-Wind-Down.png
ORGANIZER;CN="Heather Rizzo":MAILTO:heather@uplevelcoworking.com
END:VEVENT
BEGIN:VEVENT
DTSTART;TZID=America/Chicago:20231214T160000
DTEND;TZID=America/Chicago:20231214T180000
DTSTAMP:20260423T131609
CREATED:20230928T152507Z
LAST-MODIFIED:20231214T174411Z
UID:559-1702569600-1702576800@uplevelcoworking.com
SUMMARY:Work Week Wind Down: December 2023
DESCRIPTION:It’s here! The Work Week Wind Down in December 2023. Our most well-attended event\, Work Week Wind Down is our monthly happy hour where you can meet other people\, have fun\, and enjoy some good food and beverages. \nGenerally the second Thursday of the month\, at Work Week Wind Down\, we celebrate the near end of the work week with networking\, pizza\, snacks\, and adult beverages (read: local craft beer and wine coolers). We’re excited to chill with you at this event! Bring your business cards and your elevator pitch as you meet (other) members of our coworking space. \nThis event is free for Uplevel and MESBA members and $5 for general admission to help cover food and alcohol costs. Each member of Uplevel Coworking may invite up to (1) guest for free. \nAt this last Work Week Wind Down for 2023\, we hope to give a sneak peek of our new Uplevel & Thrive merchandise! Hope to see you there! \nFree for Uplevel & MESBA members | $5 for general admission
URL:https://uplevelcoworking.com/event/work-week-wind-down-december-2023/
LOCATION:Uplevel Coworking – Coffee Bar\, Uplevel Coworking -1574 W Broadway Street\, Suite 200\, Madison\, WI\, 53590\, United States
CATEGORIES:Food,Networking,Social
ATTACH;FMTTYPE=image/png:https://uplevelcoworking.com/wp-content/uploads/2023/05/Work-Week-Wind-Down.png
ORGANIZER;CN="Heather Rizzo":MAILTO:heather@uplevelcoworking.com
END:VEVENT
BEGIN:VEVENT
DTSTART;TZID=America/Chicago:20230810T160000
DTEND;TZID=America/Chicago:20230810T190000
DTSTAMP:20260423T131609
CREATED:20230725T144537Z
LAST-MODIFIED:20230725T144737Z
UID:501-1691683200-1691694000@uplevelcoworking.com
SUMMARY:Broadway Station Open House
DESCRIPTION:At our Broadway Station Open House\, you’ll have the opportunity to network with fellow business professionals\, get free swag bags\, participate in raffle bingo and trivia\, eat great food\, drink mocktails and beer\, and have lots of fun. \nWe’ll have 30 swag bags for attendees\, so make sure to show up early! \nOur Broadway Station Open House swag bags contain 2 day passes to Uplevel Coworking (VALUE: $50)\, and a coupon for 2 hours of recording time in the Podcast Recording Studio @ Uplevel Coworking (VALUE: $60) among other things! \nGET YOUR FREE TICKET HERE >> \nWe also have a number of sweet raffle items for winners of trivia and winners of raffle bingo\, including: \n\n1-month private office membership @ Uplevel Coworking (VALUE: $395)\n1-year membership with MESBA (VALUE: $175)\nWine & cheese basket\, courtesy of Starion Bank (VALUE: $150): Wine\, 2 long-stem wine glasses\, a Wisconsin-shaped cutting board\, and local artisan cheese\n60-minute massage with Knots Untied (VALUE: $135)\n\nIn addition\, all Broadway Station Open House attendees will receive the virtual swag bag\, which includes goodies to help you do good work & thrive. The swag bag contains links to these virtual treats: \n\n30-minute marketing consultation call (VALUE: $75)\nBanking Benefits consultation call (VALUE: $89)
URL:https://uplevelcoworking.com/event/broadway-station-open-house-2023/
LOCATION:Uplevel Coworking – Coffee Bar\, Uplevel Coworking -1574 W Broadway Street\, Suite 200\, Madison\, WI\, 53590\, United States
CATEGORIES:Business,Food,Networking,Social
ORGANIZER;CN="Kelly Noel Zeva":MAILTO:kellynoel@uplevelcoworking.com
END:VEVENT
BEGIN:VEVENT
DTSTART;TZID=America/Chicago:20230727T160000
DTEND;TZID=America/Chicago:20230727T180000
DTSTAMP:20260423T131609
CREATED:20230626T195758Z
LAST-MODIFIED:20230626T195758Z
UID:547-1690473600-1690480800@uplevelcoworking.com
SUMMARY:Work Week Wind Down: July 2023
DESCRIPTION:It’s here! The Work Week Wind Down in July 2023. Our most well-attended event\, Work Week Wind Down is our monthly happy hour where you can meet other people\, have fun\, and enjoy some good food and beverages. \nGenerally the fourth Thursday of the month\, at Work Week Wind Down\, we celebrate the near-end of the work week with networking\, pizza\, snacks\, and adult beverages (read: local craft beer and wine coolers). We’re excited to chill with you at this event! Bring your business cards and your elevator pitch as you meet (other) members of our coworking space. Each member of Uplevel Coworking may invite up to (1) guest for free. \nFree for Uplevel & MESBA members | $10 for general admission
URL:https://uplevelcoworking.com/event/work-week-wind-down-july-2023/
LOCATION:Uplevel Coworking – Coffee Bar\, Uplevel Coworking -1574 W Broadway Street\, Suite 200\, Madison\, WI\, 53590\, United States
CATEGORIES:Food,Networking,Social
ATTACH;FMTTYPE=image/png:https://uplevelcoworking.com/wp-content/uploads/2023/05/Work-Week-Wind-Down.png
ORGANIZER;CN="Kelly Noel Zeva":MAILTO:kellynoel@uplevelcoworking.com
END:VEVENT
BEGIN:VEVENT
DTSTART;TZID=America/Chicago:20230706T160000
DTEND;TZID=America/Chicago:20230706T180000
DTSTAMP:20260423T131609
CREATED:20230626T200743Z
LAST-MODIFIED:20230626T200743Z
UID:551-1688659200-1688666400@uplevelcoworking.com
SUMMARY:MESBA Business After 4
DESCRIPTION:Uplevel Coworking is a coworking space on the east side of Madison\, WI\, with a goal of helping you do good work and thrive. With flexible month-to-month workspace options\, blazing fast WiFi\, free tea/coffee\, conference rooms\, and even a podcast studio\, we help you get more done in less time so you can enjoy the rest of your life. Join us for an upcoming Podcasting 101 Workshop (and get 1 hour free in our studio!)\, or check out our other events. \nAt this event\, we’ll also be raffling off a full-day booking of our larger conference room (VALUE: $320) and a half-day booking of our podcast studio (VALUE: $95). Check out all our meeting spaces here.
URL:https://uplevelcoworking.com/event/business-after-4-july-2023/
LOCATION:Uplevel Coworking – Coffee Bar\, Uplevel Coworking -1574 W Broadway Street\, Suite 200\, Madison\, WI\, 53590\, United States
CATEGORIES:Business,Food,Networking,Social
ORGANIZER;CN="Kelly Noel Zeva":MAILTO:kellynoel@uplevelcoworking.com
END:VEVENT
BEGIN:VEVENT
DTSTART;TZID=America/Chicago:20230629T160000
DTEND;TZID=America/Chicago:20230629T180000
DTSTAMP:20260423T131609
CREATED:20230525T140539Z
LAST-MODIFIED:20230525T140539Z
UID:482-1688054400-1688061600@uplevelcoworking.com
SUMMARY:Work Week Wind Down: June 2023
DESCRIPTION:Celebrate the near-end of the work week with networking\, pizza\, snacks\, and adult beverages (read: local craft beer and wine coolers). We’re excited to chill with you at this event! Bring your business cards and your elevator pitch as you meet (other) members of our coworking space. Each member of Uplevel Coworking may invite up to (1) guest at the MESBA member rate. \nFree for Uplevel members | $5 for MESBA members | $10 for general admission
URL:https://uplevelcoworking.com/event/work-week-wind-down-june-2023/
LOCATION:Uplevel Coworking – Coffee Bar\, Uplevel Coworking -1574 W Broadway Street\, Suite 200\, Madison\, WI\, 53590\, United States
CATEGORIES:Food,Networking,Social
ATTACH;FMTTYPE=image/png:https://uplevelcoworking.com/wp-content/uploads/2023/05/Work-Week-Wind-Down.png
ORGANIZER;CN="Kelly Noel Zeva":MAILTO:kellynoel@uplevelcoworking.com
END:VEVENT
BEGIN:VEVENT
DTSTART;TZID=America/Chicago:20230525T150000
DTEND;TZID=America/Chicago:20230525T170000
DTSTAMP:20260423T131609
CREATED:20230509T220137Z
LAST-MODIFIED:20230516T190400Z
UID:434-1685026800-1685034000@uplevelcoworking.com
SUMMARY:Work Week Wind Down: May 2023
DESCRIPTION:Celebrate the near-end of the work week with networking\, pizza\, snacks\, and adult beverages (read: local craft beer and wine coolers). We’re excited to chill with you at this event! Bring your business cards and your elevator pitch as you meet your fellow coworking members. \nFree for Uplevel members | $5 for MESBA members | $10 for guests and non-members
URL:https://uplevelcoworking.com/event/work-week-wind-down-may-2023/
LOCATION:Uplevel Coworking – Coffee Bar\, Uplevel Coworking -1574 W Broadway Street\, Suite 200\, Madison\, WI\, 53590\, United States
CATEGORIES:Food,Networking,Social
ATTACH;FMTTYPE=image/png:https://uplevelcoworking.com/wp-content/uploads/2023/05/Work-Week-Wind-Down.png
ORGANIZER;CN="Kelly Noel Zeva":MAILTO:kellynoel@uplevelcoworking.com
END:VEVENT
END:VCALENDAR