BEGIN:VCALENDAR
VERSION:2.0
PRODID:-//Uplevel Coworking - ECPv6.15.20//NONSGML v1.0//EN
CALSCALE:GREGORIAN
METHOD:PUBLISH
X-WR-CALNAME:Uplevel Coworking
X-ORIGINAL-URL:https://uplevelcoworking.com
X-WR-CALDESC:Events for Uplevel Coworking
REFRESH-INTERVAL;VALUE=DURATION:PT1H
X-Robots-Tag:noindex
X-PUBLISHED-TTL:PT1H
BEGIN:VTIMEZONE
TZID:America/Chicago
BEGIN:DAYLIGHT
TZOFFSETFROM:-0600
TZOFFSETTO:-0500
TZNAME:CDT
DTSTART:20220313T080000
END:DAYLIGHT
BEGIN:STANDARD
TZOFFSETFROM:-0500
TZOFFSETTO:-0600
TZNAME:CST
DTSTART:20221106T070000
END:STANDARD
BEGIN:DAYLIGHT
TZOFFSETFROM:-0600
TZOFFSETTO:-0500
TZNAME:CDT
DTSTART:20230312T080000
END:DAYLIGHT
BEGIN:STANDARD
TZOFFSETFROM:-0500
TZOFFSETTO:-0600
TZNAME:CST
DTSTART:20231105T070000
END:STANDARD
BEGIN:DAYLIGHT
TZOFFSETFROM:-0600
TZOFFSETTO:-0500
TZNAME:CDT
DTSTART:20240310T080000
END:DAYLIGHT
BEGIN:STANDARD
TZOFFSETFROM:-0500
TZOFFSETTO:-0600
TZNAME:CST
DTSTART:20241103T070000
END:STANDARD
END:VTIMEZONE
BEGIN:VEVENT
DTSTART;TZID=America/Chicago:20230525T150000
DTEND;TZID=America/Chicago:20230525T170000
DTSTAMP:20260425T135234
CREATED:20230509T220137Z
LAST-MODIFIED:20230516T190400Z
UID:434-1685026800-1685034000@uplevelcoworking.com
SUMMARY:Work Week Wind Down: May 2023
DESCRIPTION:Celebrate the near-end of the work week with networking\, pizza\, snacks\, and adult beverages (read: local craft beer and wine coolers). We’re excited to chill with you at this event! Bring your business cards and your elevator pitch as you meet your fellow coworking members. \nFree for Uplevel members | $5 for MESBA members | $10 for guests and non-members
URL:https://uplevelcoworking.com/event/work-week-wind-down-may-2023/
LOCATION:Uplevel Coworking – Coffee Bar\, Uplevel Coworking -1574 W Broadway Street\, Suite 200\, Madison\, WI\, 53590\, United States
CATEGORIES:Food,Networking,Social
ATTACH;FMTTYPE=image/png:https://uplevelcoworking.com/wp-content/uploads/2023/05/Work-Week-Wind-Down.png
ORGANIZER;CN="Kelly Noel Zeva":MAILTO:kellynoel@uplevelcoworking.com
END:VEVENT
BEGIN:VEVENT
DTSTART;TZID=America/Chicago:20230523T110000
DTEND;TZID=America/Chicago:20230523T120000
DTSTAMP:20260425T135234
CREATED:20230509T220915Z
LAST-MODIFIED:20230516T194009Z
UID:441-1684839600-1684843200@uplevelcoworking.com
SUMMARY:Podcasting 101 Workshop
DESCRIPTION:This training will largely take place in our Podcast Studio\, though we will start and end in the conference room to review certain details of podcast development\, editing\, and promotion. \nWhat we’ll cover: \n\nConnecting with our audio interface\nSoftware you’ll want to have on your computer\nRecording audio to your device (micro SD\, phone\, laptop)\nAudio editing best practices\nPodcast hosting options\, and our recommended solution
URL:https://uplevelcoworking.com/event/podcasting-101-workshop-05-23-2023/
LOCATION:Uplevel Coworking – Broadway Station – Huddle Room\, 1574 W Broadway Street\, Suite 200\, Madison\, WI\, 53590\, United States
CATEGORIES:Business,Education
ATTACH;FMTTYPE=image/png:https://uplevelcoworking.com/wp-content/uploads/2023/05/Podcasting-101.png
ORGANIZER;CN="Kelly Noel Zeva":MAILTO:kellynoel@uplevelcoworking.com
END:VEVENT
BEGIN:VEVENT
DTSTART;TZID=America/Chicago:20230522T130000
DTEND;TZID=America/Chicago:20230522T140000
DTSTAMP:20260425T135234
CREATED:20230509T214716Z
LAST-MODIFIED:20230516T151833Z
UID:430-1684760400-1684764000@uplevelcoworking.com
SUMMARY:Monday Mind Break: Workplace Reiki
DESCRIPTION:Join us for a weekly break from meetings and screens. During our Monday Mind Break series\, we’ll do something that promotes your physical and mental health and wellness. Activities rotate\, so join for the ones that are fun! \nWe’ll be in the conference room for up to the full hour — if you’re not able to join us right at 2pm\, that’s okay! Show up when you can for as long as you can. \nWORKPLACE REIKI: Our Community Manager\, Kelly Noel\, will facilitate a group Reiki session with all participants who are present. All participants will be sitting in chairs around our conference room table. No physical touch necessary. If our group is smaller\, participants may receive individual mini Reiki sessions (10-15 min each) during the larger event. \nUpcoming schedule: \n\nMay 22: Workplace Reiki\nJune 5: Chair Yoga\nJune 12: Workplace Reiki\nJune 19: Mindful Coloring\nJune 26: Chair Yoga\nJuly 3: Mindful Coloring\nJuly 10: Creative Writing\nJuly 17: Workplace Reiki\nJuly 24: Chair Yoga\nJuly 31: Mindful Coloring\n\nNo event on Monday\, May 29 as it is Memorial Day.
URL:https://uplevelcoworking.com/event/monday-mind-break-05-22-2023/
LOCATION:Uplevel Coworking – Broadway Station – Conference Room\, Uplevel Coworking - 1574 W Broadway Street\, Suite 200\, Madison\, WI\, 53713\, United States
CATEGORIES:Personal Development,Wellness
ATTACH;FMTTYPE=image/png:https://uplevelcoworking.com/wp-content/uploads/2023/05/Monday-Mind-Break-Workplace-Reiki.png
ORGANIZER;CN="Kelly Noel Zeva":MAILTO:kellynoel@uplevelcoworking.com
END:VEVENT
BEGIN:VEVENT
DTSTART;TZID=America/Chicago:20230515T130000
DTEND;TZID=America/Chicago:20230515T140000
DTSTAMP:20260425T135234
CREATED:20230509T194333Z
LAST-MODIFIED:20230509T213409Z
UID:419-1684155600-1684159200@uplevelcoworking.com
SUMMARY:Monday Mind Break: Creative Writing
DESCRIPTION:Join us for a weekly break from meetings and screens. During our Monday Mind Break series\, we’ll do something that promotes your physical and mental health and wellness. Activities rotate\, so join for the ones that are fun! \nWe’ll be in the conference room for up to the full hour — if you’re not able to join us right at 2pm\, that’s okay! Show up when you can for as long as you can. \nCHAIR YOGA: Our chair yoga-inspired sessions last 15-30 minutes\, depending on when people arrive. If we have a lot of people arrive right at 2pm\, we may do two sessions (2pm and 2:30pm start times). \nUpcoming schedule: \n\nMay 15: Creative Writing\nMay 22: Workplace Reiki\nJune 5: Chair Yoga\nJune 12: Workplace Reiki\nJune 19: Mindful Coloring\nJune 26: Chair Yoga\n\nNo event on Monday\, May 29 as it is Memorial Day. 
URL:https://uplevelcoworking.com/event/monday-mind-break-05-15-2023/
LOCATION:Uplevel Coworking – Broadway Station – Conference Room\, Uplevel Coworking - 1574 W Broadway Street\, Suite 200\, Madison\, WI\, 53713\, United States
CATEGORIES:Personal Development,Social,Wellness
ATTACH;FMTTYPE=image/png:https://uplevelcoworking.com/wp-content/uploads/2023/05/Creative-Writing.png
ORGANIZER;CN="Kelly Noel Zeva":MAILTO:kellynoel@uplevelcoworking.com
END:VEVENT
BEGIN:VEVENT
DTSTART;TZID=America/Chicago:20230510T110000
DTEND;TZID=America/Chicago:20230510T120000
DTSTAMP:20260425T135234
CREATED:20230509T021653Z
LAST-MODIFIED:20230516T194301Z
UID:404-1683716400-1683720000@uplevelcoworking.com
SUMMARY:Pizza Luncheon
DESCRIPTION:Join us for a pizza lunch\, tossed salad\, and brownies! Those of us that want to have lunch away from our desks will gather in the Huddle Room for networking and games. Free for Uplevel Coworking members\, $10 for guests and non-members.
URL:https://uplevelcoworking.com/event/pizza-luncheon/
LOCATION:Uplevel Coworking – Coffee Bar\, Uplevel Coworking -1574 W Broadway Street\, Suite 200\, Madison\, WI\, 53590\, United States
ATTACH;FMTTYPE=image/png:https://uplevelcoworking.com/wp-content/uploads/2023/05/Pizza-luncheon.png
ORGANIZER;CN="Kelly Noel Zeva":MAILTO:kellynoel@uplevelcoworking.com
END:VEVENT
END:VCALENDAR